BEGIN:VCALENDAR
VERSION:2.0
PRODID:-//VISIT EDOM - ECPv6.15.17//NONSGML v1.0//EN
CALSCALE:GREGORIAN
METHOD:PUBLISH
X-WR-CALNAME:VISIT EDOM
X-ORIGINAL-URL:https://visitedom.com
X-WR-CALDESC:Events for VISIT EDOM
REFRESH-INTERVAL;VALUE=DURATION:PT1H
X-Robots-Tag:noindex
X-PUBLISHED-TTL:PT1H
BEGIN:VTIMEZONE
TZID:UTC
BEGIN:STANDARD
TZOFFSETFROM:+0000
TZOFFSETTO:+0000
TZNAME:UTC
DTSTART:20250101T000000
END:STANDARD
END:VTIMEZONE
BEGIN:VEVENT
DTSTART;TZID=UTC:20260502T120000
DTEND;TZID=UTC:20260502T170000
DTSTAMP:20260423T151451
CREATED:20260404T205645Z
LAST-MODIFIED:20260404T205645Z
UID:1997-1777723200-1777741200@visitedom.com
SUMMARY:Spring Toy Run
DESCRIPTION:
URL:https://visitedom.com/event/spring-toy-run/
END:VEVENT
BEGIN:VEVENT
DTSTART;TZID=UTC:20260502T140000
DTEND;TZID=UTC:20260517T140000
DTSTAMP:20260423T151451
CREATED:20260404T214707Z
LAST-MODIFIED:20260404T214707Z
UID:2007-1777730400-1779026400@visitedom.com
SUMMARY:The Puppet Show Man
DESCRIPTION:
URL:https://visitedom.com/event/the-puppet-show-man/
END:VEVENT
BEGIN:VEVENT
DTSTART;VALUE=DATE:20261011
DTEND;VALUE=DATE:20261013
DTSTAMP:20260423T151451
CREATED:20240819T134515Z
LAST-MODIFIED:20260404T214000Z
UID:1782-1791676800-1791849599@visitedom.com
SUMMARY:Edom Art Festival
DESCRIPTION:Annual juried fine art and fine craft festival in Edom\, TX\, established in 1972.
URL:https://visitedom.com/event/edom-art-festival/
LOCATION:Edom\, TX\, Edom\, TX\, United States
ATTACH;FMTTYPE=image/jpeg:https://visitedom.com/wp-content/uploads/2022/11/art-festival-entrance.jpg
END:VEVENT
END:VCALENDAR