BEGIN:VCALENDAR
VERSION:2.0
PRODID:-//VISIT EDOM - ECPv6.15.17//NONSGML v1.0//EN
CALSCALE:GREGORIAN
METHOD:PUBLISH
X-WR-CALNAME:VISIT EDOM
X-ORIGINAL-URL:https://visitedom.com
X-WR-CALDESC:Events for VISIT EDOM
REFRESH-INTERVAL;VALUE=DURATION:PT1H
X-Robots-Tag:noindex
X-PUBLISHED-TTL:PT1H
BEGIN:VTIMEZONE
TZID:UTC
BEGIN:STANDARD
TZOFFSETFROM:+0000
TZOFFSETTO:+0000
TZNAME:UTC
DTSTART:20230101T000000
END:STANDARD
END:VTIMEZONE
BEGIN:VEVENT
DTSTART;VALUE=DATE:20260418
DTEND;VALUE=DATE:20260419
DTSTAMP:20260423T221519
CREATED:20260323T233019Z
LAST-MODIFIED:20260404T212927Z
UID:1969-1776470400-1776556799@visitedom.com
SUMMARY:Open Studio Tours
DESCRIPTION:
URL:https://visitedom.com/event/open-studio-tours/
END:VEVENT
BEGIN:VEVENT
DTSTART;TZID=UTC:20260401T190000
DTEND;TZID=UTC:20260401T210000
DTSTAMP:20260423T221519
CREATED:20260404T205806Z
LAST-MODIFIED:20260404T212032Z
UID:2000-1775070000-1775077200@visitedom.com
SUMMARY:All Poets
DESCRIPTION:
URL:https://visitedom.com/event/open-poetry-share/
END:VEVENT
BEGIN:VEVENT
DTSTART;VALUE=DATE:20250101
DTEND;VALUE=DATE:20250102
DTSTAMP:20260423T221519
CREATED:20240813T210948Z
LAST-MODIFIED:20241022T221408Z
UID:1778-1735689600-1735775999@visitedom.com
SUMMARY:New Year's Day
DESCRIPTION:Happy New Year!
URL:https://visitedom.com/event/new-years-day/
END:VEVENT
BEGIN:VEVENT
DTSTART;VALUE=DATE:20241231
DTEND;VALUE=DATE:20250101
DTSTAMP:20260423T221519
CREATED:20240813T210819Z
LAST-MODIFIED:20241022T221220Z
UID:1776-1735603200-1735689599@visitedom.com
SUMMARY:New Years Eve at The Log Cabin
DESCRIPTION:Celebrate the closing of one year and opening the door to the next with lunch or dinner at The Edom Log Cabin. A special menu will be designed specifically for the evening – make reservations early!
URL:https://visitedom.com/event/new-years-eve-at-the-log-cabin/
LOCATION:Edom Log Cabin\, 8242 FM 279\, Edom\, TX\, 75454
ATTACH;FMTTYPE=image/jpeg:https://visitedom.com/wp-content/uploads/2024/05/log-cabin-logo.jpg
END:VEVENT
BEGIN:VEVENT
DTSTART;VALUE=DATE:20241225
DTEND;VALUE=DATE:20241226
DTSTAMP:20260423T221519
CREATED:20240813T210520Z
LAST-MODIFIED:20240813T210520Z
UID:1774-1735084800-1735171199@visitedom.com
SUMMARY:Christmas Day
DESCRIPTION:
URL:https://visitedom.com/event/christmas-day/
END:VEVENT
BEGIN:VEVENT
DTSTART;VALUE=DATE:20241128
DTEND;VALUE=DATE:20241129
DTSTAMP:20260423T221519
CREATED:20240813T204725Z
LAST-MODIFIED:20240813T204725Z
UID:1761-1732752000-1732838399@visitedom.com
SUMMARY:Thanksgiving
DESCRIPTION:
URL:https://visitedom.com/event/thanksgiving/
END:VEVENT
BEGIN:VEVENT
DTSTART;VALUE=DATE:20241119
DTEND;VALUE=DATE:20241202
DTSTAMP:20260423T221519
CREATED:20240813T205246Z
LAST-MODIFIED:20241022T221150Z
UID:1763-1731974400-1733097599@visitedom.com
SUMMARY:Small Business Saturday
DESCRIPTION:“When you buy from a small business\, an actual person does a little happy dance!” \nFriday\, Saturday and Sundays November 19th thru December 1st.
URL:https://visitedom.com/event/small-business-saturday/
LOCATION:Edom\, TX\, Edom\, TX\, United States
ATTACH;FMTTYPE=image/jpeg:https://visitedom.com/wp-content/uploads/2022/11/snow-storefronts.jpg
END:VEVENT
BEGIN:VEVENT
DTSTART;TZID=UTC:20241117T133000
DTEND;TZID=UTC:20241117T133000
DTSTAMP:20260423T221519
CREATED:20241022T210820Z
LAST-MODIFIED:20241022T220933Z
UID:1789-1731850200-1731850200@visitedom.com
SUMMARY:Natalie Price @ The Old Firehouse
DESCRIPTION:This Concert Sponsored By Steve Howard & Helen Mar Parkin. \nSchmooze Hour Begins at 1:30pm\, Concert Begins at 2:30 pm \nBUY TICKETS \nMore about the artist: http://www.natpricemusic.com/
URL:https://visitedom.com/event/natalie-price-the-old-firehouse/
LOCATION:The Old Firehouse\, 8241 FM 279\, Edom\, TX\, 75454
END:VEVENT
BEGIN:VEVENT
DTSTART;VALUE=DATE:20241111
DTEND;VALUE=DATE:20241112
DTSTAMP:20260423T221519
CREATED:20240813T204003Z
LAST-MODIFIED:20241022T220401Z
UID:1753-1731283200-1731369599@visitedom.com
SUMMARY:Veteran's Day
DESCRIPTION:“Honoring the sacrifices many have made for our country in the name of freedom\nand democracy is the very foundation of Veterans Day.” \n– Charles B. Rangel \nThe Edom Area Chamber of Commerce wishes to thank all the men and women for\ntheir military service to our country.
URL:https://visitedom.com/event/veterans-day/
END:VEVENT
BEGIN:VEVENT
DTSTART;VALUE=DATE:20241105
DTEND;VALUE=DATE:20241106
DTSTAMP:20260423T221519
CREATED:20240813T203822Z
LAST-MODIFIED:20240813T203822Z
UID:1751-1730764800-1730851199@visitedom.com
SUMMARY:Election Day
DESCRIPTION:
URL:https://visitedom.com/event/election-day/
END:VEVENT
BEGIN:VEVENT
DTSTART;TZID=UTC:20241103T133000
DTEND;TZID=UTC:20241103T133000
DTSTAMP:20260423T221519
CREATED:20240813T202518Z
LAST-MODIFIED:20241022T220639Z
UID:1740-1730640600-1730640600@visitedom.com
SUMMARY:Firehouse Fundraiser
DESCRIPTION:You know them all because they’ve been here before. Now they are helping to keep The Old Firehouse alive with this fundraising concert! \nSchmooze Hour Begins at 1:30pm\, Concert Begins at 2:30 pm \nFEATURING:\nRandy Lewis Brown\nAdler & Hearne\nDave Sherman\nNeal Katz
URL:https://visitedom.com/event/firehouse-fundraiser/
LOCATION:The Old Firehouse\, 8241 FM 279\, Edom\, TX\, 75454
END:VEVENT
BEGIN:VEVENT
DTSTART;TZID=UTC:20241010T190000
DTEND;TZID=UTC:20241010T190000
DTSTAMP:20260423T221519
CREATED:20240813T203312Z
LAST-MODIFIED:20240813T203528Z
UID:1747-1728586800-1728586800@visitedom.com
SUMMARY:Edom City Council Meeting
DESCRIPTION:
URL:https://visitedom.com/event/edom-city-council-meeting-2/
LOCATION:Edom Community Center\, 150 VZCR 4800\, Edom\, TX\, 75754\, United States
END:VEVENT
END:VCALENDAR