BEGIN:VCALENDAR
VERSION:2.0
PRODID:-//VISIT EDOM - ECPv6.15.17//NONSGML v1.0//EN
CALSCALE:GREGORIAN
METHOD:PUBLISH
X-ORIGINAL-URL:https://visitedom.com
X-WR-CALDESC:Events for VISIT EDOM
REFRESH-INTERVAL;VALUE=DURATION:PT1H
X-Robots-Tag:noindex
X-PUBLISHED-TTL:PT1H
BEGIN:VTIMEZONE
TZID:UTC
BEGIN:STANDARD
TZOFFSETFROM:+0000
TZOFFSETTO:+0000
TZNAME:UTC
DTSTART:20250101T000000
END:STANDARD
END:VTIMEZONE
BEGIN:VEVENT
DTSTART;TZID=UTC:20260401T190000
DTEND;TZID=UTC:20260401T210000
DTSTAMP:20260423T185223
CREATED:20260404T205806Z
LAST-MODIFIED:20260404T212032Z
UID:2000-1775070000-1775077200@visitedom.com
SUMMARY:All Poets
DESCRIPTION:
URL:https://visitedom.com/event/open-poetry-share/
END:VEVENT
END:VCALENDAR