BEGIN:VCALENDAR
VERSION:2.0
PRODID:-//VISIT EDOM - ECPv6.15.17//NONSGML v1.0//EN
CALSCALE:GREGORIAN
METHOD:PUBLISH
X-WR-CALNAME:VISIT EDOM
X-ORIGINAL-URL:https://visitedom.com
X-WR-CALDESC:Events for VISIT EDOM
REFRESH-INTERVAL;VALUE=DURATION:PT1H
X-Robots-Tag:noindex
X-PUBLISHED-TTL:PT1H
BEGIN:VTIMEZONE
TZID:UTC
BEGIN:STANDARD
TZOFFSETFROM:+0000
TZOFFSETTO:+0000
TZNAME:UTC
DTSTART:20230101T000000
END:STANDARD
END:VTIMEZONE
BEGIN:VEVENT
DTSTART;VALUE=DATE:20241231
DTEND;VALUE=DATE:20250101
DTSTAMP:20260424T205908
CREATED:20240813T210819Z
LAST-MODIFIED:20241022T221220Z
UID:1776-1735603200-1735689599@visitedom.com
SUMMARY:New Years Eve at The Log Cabin
DESCRIPTION:Celebrate the closing of one year and opening the door to the next with lunch or dinner at The Edom Log Cabin. A special menu will be designed specifically for the evening – make reservations early!
URL:https://visitedom.com/event/new-years-eve-at-the-log-cabin/
LOCATION:Edom Log Cabin\, 8242 FM 279\, Edom\, TX\, 75454
ATTACH;FMTTYPE=image/jpeg:https://visitedom.com/wp-content/uploads/2024/05/log-cabin-logo.jpg
END:VEVENT
END:VCALENDAR