BEGIN:VCALENDAR
VERSION:2.0
PRODID:-//VISIT EDOM - ECPv6.15.17//NONSGML v1.0//EN
CALSCALE:GREGORIAN
METHOD:PUBLISH
X-WR-CALNAME:VISIT EDOM
X-ORIGINAL-URL:https://visitedom.com
X-WR-CALDESC:Events for VISIT EDOM
REFRESH-INTERVAL;VALUE=DURATION:PT1H
X-Robots-Tag:noindex
X-PUBLISHED-TTL:PT1H
BEGIN:VTIMEZONE
TZID:UTC
BEGIN:STANDARD
TZOFFSETFROM:+0000
TZOFFSETTO:+0000
TZNAME:UTC
DTSTART:20230101T000000
END:STANDARD
END:VTIMEZONE
BEGIN:VEVENT
DTSTART;VALUE=DATE:20241111
DTEND;VALUE=DATE:20241112
DTSTAMP:20260425T001558
CREATED:20240813T204003Z
LAST-MODIFIED:20241022T220401Z
UID:1753-1731283200-1731369599@visitedom.com
SUMMARY:Veteran's Day
DESCRIPTION:“Honoring the sacrifices many have made for our country in the name of freedom\nand democracy is the very foundation of Veterans Day.” \n– Charles B. Rangel \nThe Edom Area Chamber of Commerce wishes to thank all the men and women for\ntheir military service to our country.
URL:https://visitedom.com/event/veterans-day/
END:VEVENT
END:VCALENDAR